Workbook

Sheet Cómo usarla
C3: Plantilla de control de gastos
C4: Restrudis Finance · Planificación financiera patrimonial · restrudisfinance.com
C7: 1. Registro anual
C8: Apunta cada mes tus ingresos y gastos en las casillas de color crema. Las sumas se calculan solas.
C10: 2. Resumen del mes
C11: Elige un mes en el desplegable y verás en qué se va tu dinero y cuánto consigues ahorrar.
C13: 3. Patrimonio
C14: Anota lo que tienes y lo que debes para conocer tu patrimonio neto. Actualízalo una o dos veces al año.
C16: Consejo
C17: No hace falta que sea exacto al céntimo. Lo importante es la constancia: con 3 meses apuntados ya verás patrones.
C19: Importante
C20: Solo se escribe en las casillas de color crema. El resto está protegido para que no se borren las fórmulas por error.
... C26: Esta plantilla es una herramienta de organización personal con fines educativos. No constituye asesoramiento ni recomendación de inversión. Tus datos se quedan en tu ordenador: Restrudis Finance no los recibe.

Sheet Resumen del mes
C3: Resumen del mes
C4: Elige el mes y mira en qué se va tu dinero.
C6: MES | G6: ⓘ Esta hoja se rellena sola: escribe tus cifras en la pestaña «Registro anual».
C7: Enero | D7: ◀ elige el mes en el desplegable
C9: INGRESOS
C10: Concepto | D10: Importe
C11: ='Registro anual'!C11 | D11: =INDEX('Registro anual'!$D$11:$O$11,1,Datos!$C$2)
C12: ='Registro anual'!C12 | D12: =INDEX('Registro anual'!$D$12:$O$12,1,Datos!$C$2)
C13: ='Registro anual'!C13 | D13: =INDEX('Registro anual'!$D$13:$O$13,1,Datos!$C$2)
C14: ='Registro anual'!C14 | D14: =INDEX('Registro anual'!$D$14:$O$14,1,Datos!$C$2)
C15: Total ingresos | D15: =INDEX('Registro anual'!$D$15:$O$15,1,Datos!$C$2)
C18: GASTOS FIJOS | G18: GASTOS VARIABLES
C19: Concepto | D19: Importe | E19: % ingresos | G19: Concepto | H19: Importe | I19: % ingresos
C20: ='Registro anual'!C19 | D20: =INDEX('Registro anual'!$D$19:$O$19,1,Datos!$C$2) | E20: =IF($D$15=0,0,D20/$D$15) | G20: ='Registro anual'!C33 | H20: =INDEX('Registro anual'!$D$33:$O$33,1,Datos!$C$2) | I20: =IF($D$15=0,0,H20/$D$15)
C21: ='Registro anual'!C20 | D21: =INDEX('Registro anual'!$D$20:$O$20,1,Datos!$C$2) | E21: =IF($D$15=0,0,D21/$D$15) | G21: ='Registro anual'!C34 | H21: =INDEX('Registro anual'!$D$34:$O$34,1,Datos!$C$2) | I21: =IF($D$15=0,0,H21/$D$15)
C22: ='Registro anual'!C21 | D22: =INDEX('Registro anual'!$D$21:$O$21,1,Datos!$C$2) | E22: =IF($D$15=0,0,D22/$D$15) | G22: ='Registro anual'!C35 | H22: =INDEX('Registro anual'!$D$35:$O$35,1,Datos!$C$2) | I22: =IF($D$15=0,0,H22/$D$15)
C23: ='Registro anual'!C22 | D23: =INDEX('Registro anual'!$D$22:$O$22,1,Datos!$C$2) | E23: =IF($D$15=0,0,D23/$D$15) | G23: ='Registro anual'!C36 | H23: =INDEX('Registro anual'!$D$36:$O$36,1,Datos!$C$2) | I23: =IF($D$15=0,0,H23/$D$15)
C24: ='Registro anual'!C23 | D24: =INDEX('Registro anual'!$D$23:$O$23,1,Datos!$C$2) | E24: =IF($D$15=0,0,D24/$D$15) | G24: ='Registro anual'!C37 | H24: =INDEX('Registro anual'!$D$37:$O$37,1,Datos!$C$2) | I24: =IF($D$15=0,0,H24/$D$15)
C25: ='Registro anual'!C24 | D25: =INDEX('Registro anual'!$D$24:$O$24,1,Datos!$C$2) | E25: =IF($D$15=0,0,D25/$D$15) | G25: ='Registro anual'!C38 | H25: =INDEX('Registro anual'!$D$38:$O$38,1,Datos!$C$2) | I25: =IF($D$15=0,0,H25/$D$15)
C26: ='Registro anual'!C25 | D26: =INDEX('Registro anual'!$D$25:$O$25,1,Datos!$C$2) | E26: =IF($D$15=0,0,D26/$D$15) | G26: ='Registro anual'!C39 | H26: =INDEX('Registro anual'!$D$39:$O$39,1,Datos!$C$2) | I26: =IF($D$15=0,0,H26/$D$15)
C27: ='Registro anual'!C26 | D27: =INDEX('Registro anual'!$D$26:$O$26,1,Datos!$C$2) | E27: =IF($D$15=0,0,D27/$D$15) | G27: ='Registro anual'!C40 | H27: =INDEX('Registro anual'!$D$40:$O$40,1,Datos!$C$2) | I27: =IF($D$15=0,0,H27/$D$15)
C28: ='Registro anual'!C27 | D28: =INDEX('Registro anual'!$D$27:$O$27,1,Datos!$C$2) | E28: =IF($D$15=0,0,D28/$D$15) | G28: ='Registro anual'!C41 | H28: =INDEX('Registro anual'!$D$41:$O$41,1,Datos!$C$2) | I28: =IF($D$15=0,0,H28/$D$15)
C29: ='Registro anual'!C28 | D29: =INDEX('Registro anual'!$D$28:$O$28,1,Datos!$C$2) | E29: =IF($D$15=0,0,D29/$D$15) | G29: ='Registro anual'!C42 | H29: =INDEX('Registro anual'!$D$42:$O$42,1,Datos!$C$2) | I29: =IF($D$15=0,0,H29/$D$15)
C30: Total gastos fijos | D30: =INDEX('Registro anual'!$D$29:$O$29,1,Datos!$C$2) | E30: =IF($D$15=0,0,D30/$D$15) | G30: Total gastos variables | H30: =INDEX('Registro anual'!$D$43:$O$43,1,Datos!$C$2) | I30: =IF($D$15=0,0,H30/$D$15) | K30: El gráfico se dibuja cuando rellenas el Registro anual del mes elegido.
C32: INGRESOS | G32: GASTOS
C33: =D15 | G33: =D30+H30
C35: AHORRO | G35: % DE AHORRO
C36: =D15-D30-H30 | G36: =IF(D15=0,0,(D15-D30-H30)/D15)

Sheet Registro anual
C3: Registro anual
C4: Apunta tus cifras en las casillas crema. Todo lo demás se calcula solo.
C6: AÑO
C7: 2026
C9: INGRESOS
C10: Concepto | D10: Ene | E10: Feb | F10: Mar | G10: Abr | H10: May | I10: Jun | J10: Jul | K10: Ago | L10: Sep | M10: Oct | N10: Nov | O10: Dic | P10: Total | Q10: Media/mes
C11: Salario neto | P11: =SUM(D11:O11) | Q11: =IF(COUNT(D11:O11)=0,0,AVERAGE(D11:O11))
C12: Ingresos extra / freelance | P12: =SUM(D12:O12) | Q12: =IF(COUNT(D12:O12)=0,0,AVERAGE(D12:O12))
C13: Rentas / alquileres | P13: =SUM(D13:O13) | Q13: =IF(COUNT(D13:O13)=0,0,AVERAGE(D13:O13))
C14: Otros ingresos | P14: =SUM(D14:O14) | Q14: =IF(COUNT(D14:O14)=0,0,AVERAGE(D14:O14))
C15: Total ingresos | D15: =SUM(D11:D14) | E15: =SUM(E11:E14) | F15: =SUM(F11:F14) | G15: =SUM(G11:G14) | H15: =SUM(H11:H14) | I15: =SUM(I11:I14) | J15: =SUM(J11:J14) | K15: =SUM(K11:K14) | ... P15: =SUM(P11:P14) | Q15: =IF(COUNT(D11:O14)=0,0,P15/MAX(1,COUNTIF(D15:O15,">0")))
C17: GASTOS FIJOS
C18: Concepto | D18: Ene | E18: Feb | F18: Mar | G18: Abr | H18: May | I18: Jun | J18: Jul | K18: Ago | L18: Sep | M18: Oct | N18: Nov | O18: Dic | P18: Total | Q18: Media/mes
C19: Hipoteca / alquiler | P19: =SUM(D19:O19) | Q19: =IF(COUNT(D19:O19)=0,0,AVERAGE(D19:O19))
C20: Cuota coche / transporte | P20: =SUM(D20:O20) | Q20: =IF(COUNT(D20:O20)=0,0,AVERAGE(D20:O20))
C21: Seguros (hogar, vida, salud) | P21: =SUM(D21:O21) | Q21: =IF(COUNT(D21:O21)=0,0,AVERAGE(D21:O21))
C22: Suministros (luz, agua, gas) | P22: =SUM(D22:O22) | Q22: =IF(COUNT(D22:O22)=0,0,AVERAGE(D22:O22))
C23: Internet / teléfono | P23: =SUM(D23:O23) | Q23: =IF(COUNT(D23:O23)=0,0,AVERAGE(D23:O23))
C24: Suscripciones (streaming, gimnasio) | P24: =SUM(D24:O24) | Q24: =IF(COUNT(D24:O24)=0,0,AVERAGE(D24:O24))
C25: Cuotas de préstamos | P25: =SUM(D25:O25) | Q25: =IF(COUNT(D25:O25)=0,0,AVERAGE(D25:O25))
C26: Educación / formación | P26: =SUM(D26:O26) | Q26: =IF(COUNT(D26:O26)=0,0,AVERAGE(D26:O26))
C27: Comunidad / IBI | P27: =SUM(D27:O27) | Q27: =IF(COUNT(D27:O27)=0,0,AVERAGE(D27:O27))
C28: Otros gastos fijos | P28: =SUM(D28:O28) | Q28: =IF(COUNT(D28:O28)=0,0,AVERAGE(D28:O28))
C29: Total gastos fijos | D29: =SUM(D19:D28) | E29: =SUM(E19:E28) | F29: =SUM(F19:F28) | G29: =SUM(G19:G28) | H29: =SUM(H19:H28) | I29: =SUM(I19:I28) | J29: =SUM(J19:J28) | K29: =SUM(K19:K28) | ... P29: =SUM(P19:P28) | Q29: =IF(COUNT(D19:O28)=0,0,P29/MAX(1,COUNTIF(D29:O29,">0")))
C31: GASTOS VARIABLES
C32: Concepto | D32: Ene | E32: Feb | F32: Mar | G32: Abr | H32: May | I32: Jun | J32: Jul | K32: Ago | L32: Sep | M32: Oct | N32: Nov | O32: Dic | P32: Total | Q32: Media/mes
C33: Alimentación / supermercado | P33: =SUM(D33:O33) | Q33: =IF(COUNT(D33:O33)=0,0,AVERAGE(D33:O33))
C34: Restaurantes / ocio | P34: =SUM(D34:O34) | Q34: =IF(COUNT(D34:O34)=0,0,AVERAGE(D34:O34))
C35: Ropa y calzado | P35: =SUM(D35:O35) | Q35: =IF(COUNT(D35:O35)=0,0,AVERAGE(D35:O35))
C36: Transporte (gasolina, taxi) | P36: =SUM(D36:O36) | Q36: =IF(COUNT(D36:O36)=0,0,AVERAGE(D36:O36))
C37: Salud / farmacia | P37: =SUM(D37:O37) | Q37: =IF(COUNT(D37:O37)=0,0,AVERAGE(D37:O37))
C38: Regalos / caprichos | P38: =SUM(D38:O38) | Q38: =IF(COUNT(D38:O38)=0,0,AVERAGE(D38:O38))
C39: Viajes / escapadas | P39: =SUM(D39:O39) | Q39: =IF(COUNT(D39:O39)=0,0,AVERAGE(D39:O39))
C40: Cuidado personal | P40: =SUM(D40:O40) | Q40: =IF(COUNT(D40:O40)=0,0,AVERAGE(D40:O40))
C41: Hobbies / cultura | P41: =SUM(D41:O41) | Q41: =IF(COUNT(D41:O41)=0,0,AVERAGE(D41:O41))
C42: Otros gastos variables | P42: =SUM(D42:O42) | Q42: =IF(COUNT(D42:O42)=0,0,AVERAGE(D42:O42))
C43: Total gastos variables | D43: =SUM(D33:D42) | E43: =SUM(E33:E42) | F43: =SUM(F33:F42) | G43: =SUM(G33:G42) | H43: =SUM(H33:H42) | I43: =SUM(I33:I42) | J43: =SUM(J33:J42) | K43: =SUM(K33:K42) | ... P43: =SUM(P33:P42) | Q43: =IF(COUNT(D33:O42)=0,0,P43/MAX(1,COUNTIF(D43:O43,">0")))
C45: RESULTADO
C46: Total gastos | D46: =D29+D43 | E46: =E29+E43 | F46: =F29+F43 | G46: =G29+G43 | H46: =H29+H43 | I46: =I29+I43 | J46: =J29+J43 | K46: =K29+K43 | ... Q46: =Q29+Q43
C47: Ahorro del mes | D47: =D15-D29-D43 | E47: =E15-E29-E43 | F47: =F15-F29-F43 | G47: =G15-G29-G43 | H47: =H15-H29-H43 | I47: =I15-I29-I43 | J47: =J15-J29-J43 | K47: =K15-K29-K43 | ... Q47: =Q15-Q29-Q43
...

Sheet Datos
A1: Meses | C1: Nº de mes | E1: Categoría | F1: Importe
A2: Enero | C2: =IFERROR(MATCH('Resumen del mes'!C7,Datos!$A$2:$A$13,0),1) | E2: Gastos fijos | F2: ='Resumen del mes'!D30
A3: Febrero | E3: Gastos variables | F3: ='Resumen del mes'!H30
A4: Marzo | E4: Ahorro | F4: =MAX(0,'Resumen del mes'!D15-'Resumen del mes'!D30-'Resumen del mes'!H30)
A5: Abril
A6: Mayo
A7: Junio
A8: Julio
A9: Agosto
A10: Septiembre
A11: Octubre
A12: Noviembre
A13: Diciembre

Sheet Patrimonio
C3: Tu patrimonio
C4: Lo que tienes menos lo que debes. Actualízalo una o dos veces al año.
C7: ACTIVOS · lo que tienes
C8: Concepto | D8: Importe | E8: % | F8: Nota
C9: Vivienda habitual | E9: =IF(D21=0,0,D9/D21) | F9: Valor de mercado estimado
C10: Otros inmuebles | E10: =IF(D21=0,0,D10/D21) | F10: Valor de mercado estimado
C11: Cuentas corrientes y de ahorro | E11: =IF(D21=0,0,D11/D21) | F11: Saldo actual
C12: Depósitos | E12: =IF(D21=0,0,D12/D21) | F12: Capital depositado
C13: Fondos de inversión | E13: =IF(D21=0,0,D13/D21) | F13: Valor actual
C14: Planes de pensiones / PIAS | E14: =IF(D21=0,0,D14/D21) | F14: Valor acumulado
C15: Acciones / ETF | E15: =IF(D21=0,0,D15/D21) | F15: Valor de mercado
C16: Oro / plata | E16: =IF(D21=0,0,D16/D21) | F16: Valor de mercado
C17: Criptomonedas | E17: =IF(D21=0,0,D17/D21) | F17: Valor de mercado
C18: Vehículos | E18: =IF(D21=0,0,D18/D21) | F18: Valor estimado
C19: Negocio / participaciones | E19: =IF(D21=0,0,D19/D21) | F19: Valoración
C20: Otros activos | E20: =IF(D21=0,0,D20/D21) | F20: Especificar
C21: Total activos | D21: =SUM(D9:D20)
C23: PASIVOS · lo que debes
C24: Concepto | D24: Importe | E24: % | F24: Nota
C25: Hipoteca vivienda habitual | E25: =IF(D31=0,0,D25/D31) | F25: Capital pendiente
C26: Otras hipotecas | E26: =IF(D31=0,0,D26/D31) | F26: Capital pendiente
C27: Préstamo coche | E27: =IF(D31=0,0,D27/D31) | F27: Capital pendiente
C28: Préstamos personales | E28: =IF(D31=0,0,D28/D31) | F28: Capital pendiente
C29: Tarjetas de crédito | E29: =IF(D31=0,0,D29/D31) | F29: Saldo pendiente
C30: Otras deudas | E30: =IF(D31=0,0,D30/D31) | F30: Especificar
C31: Total pasivos | D31: =SUM(D25:D30)
C33: PATRIMONIO NETO
C34: =D21-D31
